BEGIN:VCALENDAR
VERSION:2.0
METHOD:PUBLISH
X-WR-CALNAME;VALUE=TEXT:
PRODID:-//Drupal iCal API//EN
BEGIN:VEVENT
2016-10-24 07:30:00 AEDT
2016-10-24 08:30:00 AEDT
DTSTART:20161023T203000Z
DTEND:20161023T213000Z
SUMMARY:Second Info Session: Language Assistants Program in Spain 2017-2018
UID:8132c7a9-e0fb-4f28-8f41-2f465067b308
URL:https://slll.cass.anu.edu.au/events/second-info-session-language-assistants-program-spain-2017-2018
END:VEVENT
END:VCALENDAR
