BEGIN:VCALENDAR
VERSION:2.0
METHOD:PUBLISH
X-WR-CALNAME;VALUE=TEXT:
PRODID:-//Drupal iCal API//EN
BEGIN:VEVENT
2016-11-25 04:30:00 AEDT
2016-11-25 05:30:00 AEDT
DTSTART:20161124T173000Z
DTEND:20161124T183000Z
SUMMARY:Exotic Words: A Typology of Splits
UID:9548749d-46e1-4adc-8d3f-28d48dec3153
URL:https://slll.cass.anu.edu.au/events/exotic-words-typology-splits
END:VEVENT
END:VCALENDAR
