BEGIN:VCALENDAR
VERSION:2.0
METHOD:PUBLISH
X-WR-CALNAME;VALUE=TEXT:
PRODID:-//Drupal iCal API//EN
BEGIN:VEVENT
2016-11-01 03:00:00 AEDT
2016-11-01 04:30:00 AEDT
DTSTART:20161031T160000Z
DTEND:20161031T173000Z
SUMMARY:Workshop: The Value of the Humanities in a Neoliberal Environment
UID:62a9b843-6c32-4289-9835-988cbc6246da
URL:https://slll.cass.anu.edu.au/events/workshop-value-humanities-neoliberal-environment
END:VEVENT
END:VCALENDAR
