BEGIN:VCALENDAR
VERSION:2.0
METHOD:PUBLISH
X-WR-CALNAME;VALUE=TEXT:
PRODID:-//Drupal iCal API//EN
BEGIN:VEVENT
2016-11-22 05:15:00 AEDT
2016-11-22 06:30:00 AEDT
DTSTART:20161121T181500Z
DTEND:20161121T193000Z
SUMMARY:Making Memories
UID:16954564-2c4b-45df-9b9a-97f15a62089b
URL:https://slll.cass.anu.edu.au/events/making-memories
END:VEVENT
END:VCALENDAR
