BEGIN:VCALENDAR
VERSION:2.0
METHOD:PUBLISH
X-WR-CALNAME;VALUE=TEXT:
PRODID:-//Drupal iCal API//EN
BEGIN:VEVENT
2016-12-08 06:00:00 AEDT
2016-12-08 08:00:00 AEDT
DTSTART:20161207T190000Z
DTEND:20161207T210000Z
SUMMARY:Book Launch: The West Verandah
UID:27ae1a92-1785-4cea-8d99-792d27c3c2cb
URL:https://slll.cass.anu.edu.au/events/book-launch-west-verandah
END:VEVENT
END:VCALENDAR
