BEGIN:VCALENDAR
VERSION:2.0
METHOD:PUBLISH
X-WR-CALNAME;VALUE=TEXT:
PRODID:-//Drupal iCal API//EN
BEGIN:VEVENT
2016-11-22 06:00:00 AEDT
2016-11-22 07:30:00 AEDT
DTSTART:20161121T190000Z
DTEND:20161121T203000Z
SUMMARY:Book Launch: A Difficult Neighbourhood
UID:fe18ac67-808c-47f7-a4e8-9a90157de995
URL:https://slll.cass.anu.edu.au/events/book-launch-difficult-neighbourhood
END:VEVENT
END:VCALENDAR
