BEGIN:VCALENDAR
VERSION:2.0
METHOD:PUBLISH
X-WR-CALNAME;VALUE=TEXT:
PRODID:-//Drupal iCal API//EN
BEGIN:VEVENT
2017-03-27 05:15:00 AEDT
2017-03-27 06:15:00 AEDT
DTSTART:20170326T181500Z
DTEND:20170326T191500Z
SUMMARY:ANU Language Teaching Forum
UID:507f2a3e-83ea-47e9-9ec7-9704f2fc6bfc
URL:https://slll.cass.anu.edu.au/events/anu-language-teaching-forum-3
END:VEVENT
END:VCALENDAR
