BEGIN:VCALENDAR
VERSION:2.0
METHOD:PUBLISH
X-WR-CALNAME;VALUE=TEXT:
PRODID:-//Drupal iCal API//EN
BEGIN:VEVENT
2014-12-08 07:15:00 AEDT
2014-12-08 09:30:00 AEDT
DTSTART:20141207T201500Z
DTEND:20141207T223000Z
SUMMARY:From the Napoleonic venture to the current European malaise
UID:02d9df3a-3210-43d6-b623-a62d34002290
URL:https://slll.cass.anu.edu.au/events/napoleonic-venture-current-european-malaise
END:VEVENT
END:VCALENDAR
