BEGIN:VCALENDAR
VERSION:2.0
METHOD:PUBLISH
X-WR-CALNAME;VALUE=TEXT:
PRODID:-//Drupal iCal API//EN
BEGIN:VEVENT
2017-08-31 03:00:00 AEST
2017-08-31 04:00:00 AEST
DTSTART:20170830T170000Z
DTEND:20170830T180000Z
SUMMARY:Frankenstein in the Automatic Factory
UID:f2648235-ae3f-429d-bc41-ef92350928f6
URL:https://slll.cass.anu.edu.au/events/frankenstein-automatic-factory
END:VEVENT
END:VCALENDAR
