BEGIN:VCALENDAR
VERSION:2.0
METHOD:PUBLISH
X-WR-CALNAME;VALUE=TEXT:
PRODID:-//Drupal iCal API//EN
BEGIN:VEVENT
2014-06-04 06:15:00 AEST
2014-06-04 07:15:00 AEST
DTSTART:20140603T201500Z
DTEND:20140603T211500Z
SUMMARY:The Offline Revolution?! -  Using ePubs for content delivery
UID:d0b1c93f-1ba8-4527-a311-37e5de34c690
URL:https://slll.cass.anu.edu.au/events/offline-revolution-using-epubs-content-delivery
END:VEVENT
END:VCALENDAR
