BEGIN:VCALENDAR
VERSION:2.0
METHOD:PUBLISH
X-WR-CALNAME;VALUE=TEXT:
PRODID:-//Drupal iCal API//EN
BEGIN:VEVENT
2025-08-28 03:00:00 AEST
2025-08-28 04:00:00 AEST
DTSTART:20250827T170000Z
DTEND:20250827T180000Z
SUMMARY:Research in a Spirit of Play: Ellen Terry and Nellie Melba in Conversation
UID:88ebb62e-8b29-40f8-9b0f-0635314da37a
URL:https://slll.cass.anu.edu.au/events/research-spirit-play-ellen-terry-and-nellie-melba-conversation
END:VEVENT
END:VCALENDAR
