BEGIN:VCALENDAR
VERSION:2.0
METHOD:PUBLISH
X-WR-CALNAME;VALUE=TEXT:
PRODID:-//Drupal iCal API//EN
BEGIN:VEVENT
2026-03-18 04:15:00 AEDT
2026-03-18 05:15:00 AEDT
DTSTART:20260317T171500Z
DTEND:20260317T181500Z
SUMMARY:Life in a Desert City: New Discoveries from Ancient Trimithis (Egypt’s Western Desert)
UID:224fd597-4aaa-4be4-bc61-54911bced1e0
URL:https://slll.cass.anu.edu.au/events/life-desert-city-new-discoveries-ancient-trimithis-egypts-western-desert
END:VEVENT
END:VCALENDAR
