BEGIN:VCALENDAR
VERSION:2.0
METHOD:PUBLISH
X-WR-CALNAME;VALUE=TEXT:
PRODID:-//Drupal iCal API//EN
BEGIN:VEVENT
2026-03-26 02:00:00 AEDT
2026-03-26 03:00:00 AEDT
DTSTART:20260325T150000Z
DTEND:20260325T160000Z
SUMMARY:Losing the Plot: A Deep Dive into Shakespeare’s Julius Caesar
UID:eaaa6e83-05df-442a-bc84-3d6ad13e814f
URL:https://slll.cass.anu.edu.au/events/losing-plot-deep-dive-shakespeares-julius-caesar
END:VEVENT
END:VCALENDAR
